BEGIN:VCALENDAR
VERSION:2.0
PRODID:-//eventon.com NONSGML v1.0//EN
CALSCALE:GREGORIAN
METHOD:PUBLISH
BEGIN:VEVENT
UID:69eb20e8443d8
DTSTAMP:20260424T075104Z
DTSTART:20260411T170000Z
DTEND:20260411T190000Z
LOCATION:Cottonwood VFW Post 7400 705 E. Aspen Street\,  Cottonwood\,  AZ
SUMMARY:Verde Valley Communications & Preparedness Group
DESCRIPTION:\nhttps://ycpt.org/events/verde-valley-communications-preparedn
 ess-group/
URL:https://ycpt.org/events/verde-valley-communications-preparedness-group/
END:VEVENT
END:VCALENDAR 