BEGIN:VCALENDAR
VERSION:2.0
PRODID:-//eventon.com NONSGML v1.0//EN
CALSCALE:GREGORIAN
METHOD:PUBLISH
BEGIN:VEVENT
UID:69eb20e704f50
DTSTAMP:20260424T075103Z
DTSTART:20260103T200000Z
DTEND:20260103T230000Z
LOCATION:First Southern Baptist Church\,  1524 N State Route 89. Chino Valley\,  AZ Building "C"
SUMMARY:Yavapai County Preparedness Team December 3rd
DESCRIPTION:Many great neighbors are coming together to learn how to prepar
 e for a major disaster in our area. Meet some terrific people\,  learn cool
  stuff\,  and be better prepared to care for yourself\,  your family\,  you
 r neighborhood\,  and your community! Meetings are open to the public and a
 re FREE !!!![..]\nhttps://ycpt.org/events/yavapai-county-preparedness-team-
 december-3rd/
URL:https://ycpt.org/events/yavapai-county-preparedness-team-december-3rd/
END:VEVENT
END:VCALENDAR 