BEGIN:VCALENDAR
VERSION:2.0
PRODID:-//eventon.com NONSGML v1.0//EN
CALSCALE:GREGORIAN
METHOD:PUBLISH
BEGIN:VEVENT
UID:69eb20e7453ca
DTSTAMP:20260424T075103Z
DTSTART:20260327T000000Z
DTEND:20260327T065900Z
LOCATION:13911 E Quail Run\,  Dewey 86327
SUMMARY:Dewey-Humboldt Preparedness
DESCRIPTION:Dewey-Humboldt Preparedness meetings\,  every Thursday evening.
    Remember these meetings are designed to be interactive\,  please feel 
 free to share your ideas and perspectives on the topics. We meet every Thur
 sday night. The address is 13911 e Quail Run\,  Dewey 86327 Remember these 
 meetings are designed to be interactive\,  please feel[..]\nhttps://ycpt.or
 g/events/dewey-humboldt-preparedness/
URL:https://ycpt.org/events/dewey-humboldt-preparedness/
END:VEVENT
END:VCALENDAR 